Package: visiumStitched Version: 0.99.15 Command: /Library/Frameworks/R.framework/Resources/bin/R CMD check --install=check:visiumStitched.install-out.txt --library=/Library/Frameworks/R.framework/Resources/library --no-vignettes --timings visiumStitched_0.99.15.tar.gz StartedAt: 2025-02-09 21:55:28 -0500 (Sun, 09 Feb 2025) EndedAt: 2025-02-09 22:01:21 -0500 (Sun, 09 Feb 2025) EllapsedTime: 353.2 seconds RetCode: 0 Status: OK CheckDir: visiumStitched.Rcheck Warnings: 0