Package: visiumStitched Version: 0.99.15 Command: /home/biocbuild/R/R/bin/R CMD check --install=check:visiumStitched.install-out.txt --library=/home/biocbuild/R/R/site-library --no-vignettes --timings visiumStitched_0.99.15.tar.gz StartedAt: 2025-01-27 13:53:18 -0000 (Mon, 27 Jan 2025) EndedAt: 2025-01-27 14:15:46 -0000 (Mon, 27 Jan 2025) EllapsedTime: 1348.1 seconds RetCode: 0 Status: WARNINGS CheckDir: visiumStitched.Rcheck Warnings: 5