Package: visiumStitched Version: 0.99.15 Command: rm -rf visiumStitched.buildbin-libdir && mkdir visiumStitched.buildbin-libdir && /Users/biocbuild/BBS/utils/build-universal.sh visiumStitched_0.99.15.tar.gz /Library/Frameworks/R.framework/Resources/bin/R visiumStitched.buildbin-libdir StartedAt: 2025-02-10 01:22:08 -0500 (Mon, 10 Feb 2025) EndedAt: 2025-02-10 01:23:20 -0500 (Mon, 10 Feb 2025) EllapsedTime: 71.3 seconds RetCode: 0 Status: OK PackageFile: visiumStitched_0.99.15.tgz PackageFileSize: 4.534 MiB