Package: visiumStitched Version: 0.99.15 Command: /Library/Frameworks/R.framework/Resources/bin/R CMD check --install=check:visiumStitched.install-out.txt --library=/Library/Frameworks/R.framework/Resources/library --no-vignettes --timings visiumStitched_0.99.15.tar.gz StartedAt: 2025-02-10 00:20:28 -0500 (Mon, 10 Feb 2025) EndedAt: 2025-02-10 00:32:33 -0500 (Mon, 10 Feb 2025) EllapsedTime: 724.8 seconds RetCode: 0 Status: OK CheckDir: visiumStitched.Rcheck Warnings: 0