Package: visiumStitched Version: 0.99.15 Command: /home/biocbuild/bbs-3.21-bioc/R/bin/R CMD build --keep-empty-dirs --no-resave-data visiumStitched StartedAt: 2025-02-09 19:43:50 -0500 (Sun, 09 Feb 2025) EndedAt: 2025-02-09 19:48:44 -0500 (Sun, 09 Feb 2025) EllapsedTime: 294.4 seconds RetCode: 0 Status: OK PackageFile: visiumStitched_0.99.15.tar.gz PackageFileSize: 3.505 MiB