Package: visiumStitched Version: 0.99.15 Command: /home/biocbuild/bbs-3.21-bioc/R/bin/R CMD check --install=check:visiumStitched.install-out.txt --library=/home/biocbuild/bbs-3.21-bioc/R/site-library --timings visiumStitched_0.99.15.tar.gz StartedAt: 2025-02-13 03:43:05 -0500 (Thu, 13 Feb 2025) EndedAt: 2025-02-13 03:59:46 -0500 (Thu, 13 Feb 2025) EllapsedTime: 1000.9 seconds RetCode: 0 Status: OK CheckDir: visiumStitched.Rcheck Warnings: 0