Package: visiumStitched Version: 0.99.15 Command: /home/biocbuild/bbs-3.21-bioc/R/bin/R CMD INSTALL visiumStitched StartedAt: 2025-02-12 15:54:59 -0500 (Wed, 12 Feb 2025) EndedAt: 2025-02-12 15:55:49 -0500 (Wed, 12 Feb 2025) EllapsedTime: 50.8 seconds RetCode: 0 Status: OK