Package: visiumStitched Version: 0.99.15 Command: rm -rf visiumStitched.buildbin-libdir && mkdir visiumStitched.buildbin-libdir && E:\biocbuild\bbs-3.21-bioc\R\bin\R.exe CMD INSTALL --build --library=visiumStitched.buildbin-libdir visiumStitched_0.99.15.tar.gz StartedAt: 2025-02-10 08:56:57 -0500 (Mon, 10 Feb 2025) EndedAt: 2025-02-10 08:58:04 -0500 (Mon, 10 Feb 2025) EllapsedTime: 67.2 seconds RetCode: 0 Status: OK PackageFile: visiumStitched_0.99.15.zip PackageFileSize: 1.886 MiB