Package: visiumStitched Version: 0.99.15 Command: chmod a+r visiumStitched -R && E:\biocbuild\bbs-3.21-bioc\R\bin\R.exe CMD build --keep-empty-dirs --no-resave-data visiumStitched StartedAt: 2025-02-12 22:23:38 -0500 (Wed, 12 Feb 2025) EndedAt: 2025-02-12 22:31:02 -0500 (Wed, 12 Feb 2025) EllapsedTime: 444.5 seconds RetCode: 0 Status: OK PackageFile: visiumStitched_0.99.15.tar.gz PackageFileSize: 1.83 MiB