Package: visiumStitched Version: 0.99.15 Command: E:\biocbuild\bbs-3.21-bioc\R\bin\R.exe CMD check --no-multiarch --install=check:visiumStitched.install-out.txt --library=E:\biocbuild\bbs-3.21-bioc\R\library --no-vignettes --timings visiumStitched_0.99.15.tar.gz StartedAt: 2025-02-10 06:31:14 -0500 (Mon, 10 Feb 2025) EndedAt: 2025-02-10 06:46:53 -0500 (Mon, 10 Feb 2025) EllapsedTime: 939.3 seconds RetCode: 0 Status: OK CheckDir: visiumStitched.Rcheck Warnings: 0