Package: visiumStitched Version: 0.99.15 Command: E:\biocbuild\bbs-3.21-bioc\R\bin\R.exe CMD INSTALL visiumStitched StartedAt: 2025-02-09 16:51:30 -0500 (Sun, 09 Feb 2025) EndedAt: 2025-02-09 16:52:36 -0500 (Sun, 09 Feb 2025) EllapsedTime: 65.8 seconds RetCode: 0 Status: OK