Package: vissE Version: 1.15.0 Command: rm -rf vissE.buildbin-libdir && mkdir vissE.buildbin-libdir && /Users/biocbuild/BBS/utils/build-universal.sh vissE_1.15.0.tar.gz /Library/Frameworks/R.framework/Resources/bin/R vissE.buildbin-libdir StartedAt: 2025-02-04 22:36:31 -0500 (Tue, 04 Feb 2025) EndedAt: 2025-02-04 22:36:34 -0500 (Tue, 04 Feb 2025) EllapsedTime: 3.1 seconds RetCode: 0 Status: OK PackageFile: vissE_1.15.0.tgz PackageFileSize: 1.785 MiB