Package: vissE Version: 1.15.0 Command: /Library/Frameworks/R.framework/Resources/bin/R CMD build --keep-empty-dirs --no-resave-data vissE StartedAt: 2025-02-09 17:53:37 -0500 (Sun, 09 Feb 2025) EndedAt: 2025-02-09 17:56:10 -0500 (Sun, 09 Feb 2025) EllapsedTime: 152.9 seconds RetCode: 0 Status: OK PackageFile: vissE_1.15.0.tar.gz PackageFileSize: 1.646 MiB