Package: vissE Version: 1.15.0 Command: /home/biocbuild/R/R/bin/R CMD build --keep-empty-dirs --no-resave-data vissE StartedAt: 2025-01-28 03:09:00 -0000 (Tue, 28 Jan 2025) EndedAt: 2025-01-28 03:18:27 -0000 (Tue, 28 Jan 2025) EllapsedTime: 567.2 seconds RetCode: 0 Status: OK PackageFile: vissE_1.15.0.tar.gz PackageFileSize: 847.8 KiB