Package: vissE Version: 1.15.0 Command: /home/biocbuild/R/R/bin/R CMD check --install=check:vissE.install-out.txt --library=/home/biocbuild/R/R/site-library --no-vignettes --timings vissE_1.15.0.tar.gz StartedAt: 2025-01-27 13:53:24 -0000 (Mon, 27 Jan 2025) EndedAt: 2025-01-27 13:56:33 -0000 (Mon, 27 Jan 2025) EllapsedTime: 188.3 seconds RetCode: 0 Status: OK CheckDir: vissE.Rcheck Warnings: 0