Package: vissE Version: 1.15.0 Command: /home/biocbuild/R/R/bin/R CMD INSTALL vissE StartedAt: 2025-01-29 20:36:24 -0000 (Wed, 29 Jan 2025) EndedAt: 2025-01-29 20:36:30 -0000 (Wed, 29 Jan 2025) EllapsedTime: 6.1 seconds RetCode: 0 Status: OK