Package: vissE Version: 1.15.0 Command: /Library/Frameworks/R.framework/Resources/bin/R CMD build --keep-empty-dirs --no-resave-data vissE StartedAt: 2025-02-09 18:49:36 -0500 (Sun, 09 Feb 2025) EndedAt: 2025-02-09 18:56:15 -0500 (Sun, 09 Feb 2025) EllapsedTime: 398.8 seconds RetCode: 0 Status: OK PackageFile: vissE_1.15.0.tar.gz PackageFileSize: 1.649 MiB