Package: vissE Version: 1.15.0 Command: /Library/Frameworks/R.framework/Resources/bin/R CMD INSTALL vissE StartedAt: 2025-02-09 15:45:19 -0500 (Sun, 09 Feb 2025) EndedAt: 2025-02-09 15:45:26 -0500 (Sun, 09 Feb 2025) EllapsedTime: 6.9 seconds RetCode: 0 Status: OK