Package: vissE Version: 1.15.0 Command: /home/biocbuild/bbs-3.21-bioc/R/bin/R CMD build --keep-empty-dirs --no-resave-data vissE StartedAt: 2025-02-04 19:41:25 -0500 (Tue, 04 Feb 2025) EndedAt: 2025-02-04 19:48:36 -0500 (Tue, 04 Feb 2025) EllapsedTime: 431.7 seconds RetCode: 0 Status: OK PackageFile: vissE_1.15.0.tar.gz PackageFileSize: 1.547 MiB