Package: vissE Version: 1.15.0 Command: /home/biocbuild/bbs-3.21-bioc/R/bin/R CMD check --install=check:vissE.install-out.txt --library=/home/biocbuild/bbs-3.21-bioc/R/site-library --timings vissE_1.15.0.tar.gz StartedAt: 2025-02-05 03:50:25 -0500 (Wed, 05 Feb 2025) EndedAt: 2025-02-05 04:00:03 -0500 (Wed, 05 Feb 2025) EllapsedTime: 577.8 seconds RetCode: 0 Status: OK CheckDir: vissE.Rcheck Warnings: 0