Package: vissE Version: 1.15.0 Command: rm -rf vissE.buildbin-libdir && mkdir vissE.buildbin-libdir && E:\biocbuild\bbs-3.21-bioc\R\bin\R.exe CMD INSTALL --build --library=vissE.buildbin-libdir vissE_1.15.0.tar.gz StartedAt: 2025-02-10 08:56:58 -0500 (Mon, 10 Feb 2025) EndedAt: 2025-02-10 08:57:11 -0500 (Mon, 10 Feb 2025) EllapsedTime: 13.1 seconds RetCode: 0 Status: OK PackageFile: vissE_1.15.0.zip PackageFileSize: 1.106 MiB