Package: vissE Version: 1.15.0 Command: E:\biocbuild\bbs-3.21-bioc\R\bin\R.exe CMD check --no-multiarch --install=check:vissE.install-out.txt --library=E:\biocbuild\bbs-3.21-bioc\R\library --no-vignettes --timings vissE_1.15.0.tar.gz StartedAt: 2025-02-10 06:31:32 -0500 (Mon, 10 Feb 2025) EndedAt: 2025-02-10 06:35:04 -0500 (Mon, 10 Feb 2025) EllapsedTime: 211.9 seconds RetCode: 0 Status: OK CheckDir: vissE.Rcheck Warnings: 0