Package: vsclust Version: 1.9.10 Maintainer: Veit Schwammle MaintainerEmail: veits at bmb.sdu.dk git_url: https://git.bioconductor.org/packages/vsclust git_branch: devel git_last_commit: ef79bf9 git_last_commit_date: 2025-01-18 10:55:31 -0500 (Sat, 18 Jan 2025)