Package: vsclust Version: 1.9.10 Command: rm -rf vsclust.buildbin-libdir && mkdir vsclust.buildbin-libdir && /Users/biocbuild/BBS/utils/build-universal.sh vsclust_1.9.10.tar.gz /Library/Frameworks/R.framework/Resources/bin/R vsclust.buildbin-libdir StartedAt: 2025-02-03 23:10:26 -0500 (Mon, 03 Feb 2025) EndedAt: 2025-02-03 23:10:40 -0500 (Mon, 03 Feb 2025) EllapsedTime: 14.3 seconds RetCode: 0 Status: OK PackageFile: vsclust_1.9.10.tgz PackageFileSize: 3.964 MiB