Package: vsclust Version: 1.9.10 Command: /home/biocbuild/R/R/bin/R CMD check --install=check:vsclust.install-out.txt --library=/home/biocbuild/R/R/site-library --no-vignettes --timings vsclust_1.9.10.tar.gz StartedAt: 2025-01-27 13:53:30 -0000 (Mon, 27 Jan 2025) EndedAt: 2025-01-27 14:00:24 -0000 (Mon, 27 Jan 2025) EllapsedTime: 413.7 seconds RetCode: 0 Status: WARNINGS CheckDir: vsclust.Rcheck Warnings: 1