Package: vsclust Version: 1.9.10 Command: rm -rf vsclust.buildbin-libdir && mkdir vsclust.buildbin-libdir && /Users/biocbuild/BBS/utils/build-universal.sh vsclust_1.9.10.tar.gz /Library/Frameworks/R.framework/Resources/bin/R vsclust.buildbin-libdir StartedAt: 2025-02-10 01:22:12 -0500 (Mon, 10 Feb 2025) EndedAt: 2025-02-10 01:23:00 -0500 (Mon, 10 Feb 2025) EllapsedTime: 48.5 seconds RetCode: 0 Status: OK PackageFile: vsclust_1.9.10.tgz PackageFileSize: 3.968 MiB