Package: vsclust Version: 1.9.10 Command: /Library/Frameworks/R.framework/Resources/bin/R CMD build --keep-empty-dirs --no-resave-data vsclust StartedAt: 2025-02-03 18:44:39 -0500 (Mon, 03 Feb 2025) EndedAt: 2025-02-03 18:47:01 -0500 (Mon, 03 Feb 2025) EllapsedTime: 141.8 seconds RetCode: 0 Status: OK PackageFile: vsclust_1.9.10.tar.gz PackageFileSize: 3.834 MiB