Package: vsclust Version: 1.9.10 Command: /Library/Frameworks/R.framework/Resources/bin/R CMD check --install=check:vsclust.install-out.txt --library=/Library/Frameworks/R.framework/Resources/library --no-vignettes --timings vsclust_1.9.10.tar.gz StartedAt: 2025-02-04 00:02:19 -0500 (Tue, 04 Feb 2025) EndedAt: 2025-02-04 00:07:54 -0500 (Tue, 04 Feb 2025) EllapsedTime: 334.5 seconds RetCode: 0 Status: WARNINGS CheckDir: vsclust.Rcheck Warnings: 1