Package: vsclust Version: 1.9.10 Command: /Library/Frameworks/R.framework/Resources/bin/R CMD INSTALL vsclust StartedAt: 2025-02-03 15:29:24 -0500 (Mon, 03 Feb 2025) EndedAt: 2025-02-03 15:30:04 -0500 (Mon, 03 Feb 2025) EllapsedTime: 40.6 seconds RetCode: 0 Status: OK