Package: vsclust Version: 1.9.10 Command: /home/biocbuild/bbs-3.21-bioc/R/bin/R CMD build --keep-empty-dirs --no-resave-data vsclust StartedAt: 2025-02-03 19:52:48 -0500 (Mon, 03 Feb 2025) EndedAt: 2025-02-03 19:54:53 -0500 (Mon, 03 Feb 2025) EllapsedTime: 124.1 seconds RetCode: 0 Status: OK PackageFile: vsclust_1.9.10.tar.gz PackageFileSize: 3.66 MiB