Package: vsclust Version: 1.9.10 Command: rm -rf vsclust.buildbin-libdir && mkdir vsclust.buildbin-libdir && E:\biocbuild\bbs-3.21-bioc\R\bin\R.exe CMD INSTALL --build --library=vsclust.buildbin-libdir vsclust_1.9.10.tar.gz StartedAt: 2025-02-10 08:57:03 -0500 (Mon, 10 Feb 2025) EndedAt: 2025-02-10 08:57:57 -0500 (Mon, 10 Feb 2025) EllapsedTime: 53.6 seconds RetCode: 0 Status: OK PackageFile: vsclust_1.9.10.zip PackageFileSize: 2.313 MiB