Package: vsclust Version: 1.9.10 Command: E:\biocbuild\bbs-3.21-bioc\R\bin\R.exe CMD INSTALL vsclust StartedAt: 2025-02-09 16:17:04 -0500 (Sun, 09 Feb 2025) EndedAt: 2025-02-09 16:17:50 -0500 (Sun, 09 Feb 2025) EllapsedTime: 45.7 seconds RetCode: 0 Status: OK