Package: vtpnet Version: 0.47.0 Command: /Library/Frameworks/R.framework/Resources/bin/R CMD INSTALL vtpnet StartedAt: 2025-02-09 15:23:26 -0500 (Sun, 09 Feb 2025) EndedAt: 2025-02-09 15:23:47 -0500 (Sun, 09 Feb 2025) EllapsedTime: 20.4 seconds RetCode: 0 Status: OK