Package: vtpnet Version: 0.47.0 Command: /home/biocbuild/R/R/bin/R CMD check --install=check:vtpnet.install-out.txt --library=/home/biocbuild/R/R/site-library --no-vignettes --timings vtpnet_0.47.0.tar.gz StartedAt: 2025-01-27 13:54:15 -0000 (Mon, 27 Jan 2025) EndedAt: 2025-01-27 14:01:54 -0000 (Mon, 27 Jan 2025) EllapsedTime: 458.8 seconds RetCode: 0 Status: OK CheckDir: vtpnet.Rcheck Warnings: 0