Package: vtpnet Version: 0.47.0 Command: /home/biocbuild/R/R/bin/R CMD INSTALL vtpnet StartedAt: 2025-01-29 20:23:58 -0000 (Wed, 29 Jan 2025) EndedAt: 2025-01-29 20:25:05 -0000 (Wed, 29 Jan 2025) EllapsedTime: 66.3 seconds RetCode: 0 Status: OK