Package: vtpnet Version: 0.47.0 Command: /home/biocbuild/bbs-3.21-bioc/R/bin/R CMD build --keep-empty-dirs --no-resave-data vtpnet StartedAt: 2025-02-09 19:45:04 -0500 (Sun, 09 Feb 2025) EndedAt: 2025-02-09 19:46:34 -0500 (Sun, 09 Feb 2025) EllapsedTime: 90.1 seconds RetCode: 0 Status: OK PackageFile: vtpnet_0.47.0.tar.gz PackageFileSize: 20.22 MiB