Package: vtpnet Version: 0.47.0 Command: rm -rf vtpnet.buildbin-libdir && mkdir vtpnet.buildbin-libdir && E:\biocbuild\bbs-3.21-bioc\R\bin\R.exe CMD INSTALL --build --library=vtpnet.buildbin-libdir vtpnet_0.47.0.tar.gz StartedAt: 2025-02-10 08:57:14 -0500 (Mon, 10 Feb 2025) EndedAt: 2025-02-10 08:58:02 -0500 (Mon, 10 Feb 2025) EllapsedTime: 47.5 seconds RetCode: 0 Status: OK PackageFile: vtpnet_0.47.0.zip PackageFileSize: 20.13 MiB