Package: vulcan Version: 1.29.0 Command: /Library/Frameworks/R.framework/Resources/bin/R CMD build --keep-empty-dirs --no-resave-data vulcan StartedAt: 2025-02-09 17:54:08 -0500 (Sun, 09 Feb 2025) EndedAt: 2025-02-09 17:54:44 -0500 (Sun, 09 Feb 2025) EllapsedTime: 36.4 seconds RetCode: 0 Status: OK PackageFile: vulcan_1.29.0.tar.gz PackageFileSize: 390.3 KiB