Package: vulcan Version: 1.29.0 Command: /Library/Frameworks/R.framework/Resources/bin/R CMD check --install=check:vulcan.install-out.txt --library=/Library/Frameworks/R.framework/Resources/library --no-vignettes --timings vulcan_1.29.0.tar.gz StartedAt: 2025-02-09 21:56:39 -0500 (Sun, 09 Feb 2025) EndedAt: 2025-02-09 21:59:16 -0500 (Sun, 09 Feb 2025) EllapsedTime: 156.9 seconds RetCode: 0 Status: OK CheckDir: vulcan.Rcheck Warnings: 0