Package: vulcan Version: 1.29.0 Command: rm -rf vulcan.buildbin-libdir && mkdir vulcan.buildbin-libdir && /Users/biocbuild/BBS/utils/build-universal.sh vulcan_1.29.0.tar.gz /Library/Frameworks/R.framework/Resources/bin/R vulcan.buildbin-libdir StartedAt: 2025-02-13 01:04:25 -0500 (Thu, 13 Feb 2025) EndedAt: 2025-02-13 01:05:36 -0500 (Thu, 13 Feb 2025) EllapsedTime: 70.4 seconds RetCode: 0 Status: OK PackageFile: vulcan_1.29.0.tgz PackageFileSize: 463.7 KiB