Package: vulcan Version: 1.29.0 Command: /Library/Frameworks/R.framework/Resources/bin/R CMD build --keep-empty-dirs --no-resave-data vulcan StartedAt: 2025-02-09 18:50:04 -0500 (Sun, 09 Feb 2025) EndedAt: 2025-02-09 18:51:44 -0500 (Sun, 09 Feb 2025) EllapsedTime: 99.2 seconds RetCode: 0 Status: OK PackageFile: vulcan_1.29.0.tar.gz PackageFileSize: 390.4 KiB