Package: vulcan Version: 1.29.0 Command: /Library/Frameworks/R.framework/Resources/bin/R CMD check --install=check:vulcan.install-out.txt --library=/Library/Frameworks/R.framework/Resources/library --no-vignettes --timings vulcan_1.29.0.tar.gz StartedAt: 2025-02-13 00:05:14 -0500 (Thu, 13 Feb 2025) EndedAt: 2025-02-13 00:12:20 -0500 (Thu, 13 Feb 2025) EllapsedTime: 425.7 seconds RetCode: 0 Status: OK CheckDir: vulcan.Rcheck Warnings: 0