Package: wateRmelon Version: 2.13.0 Command: /Library/Frameworks/R.framework/Resources/bin/R CMD build --keep-empty-dirs --no-resave-data wateRmelon StartedAt: 2025-02-09 17:54:19 -0500 (Sun, 09 Feb 2025) EndedAt: 2025-02-09 17:54:58 -0500 (Sun, 09 Feb 2025) EllapsedTime: 39.5 seconds RetCode: 0 Status: OK PackageFile: wateRmelon_2.13.0.tar.gz PackageFileSize: 3.275 MiB