Package: wateRmelon Version: 2.13.0 Command: /Library/Frameworks/R.framework/Resources/bin/R CMD build --keep-empty-dirs --no-resave-data wateRmelon StartedAt: 2025-02-09 18:50:14 -0500 (Sun, 09 Feb 2025) EndedAt: 2025-02-09 18:51:58 -0500 (Sun, 09 Feb 2025) EllapsedTime: 104.9 seconds RetCode: 0 Status: OK PackageFile: wateRmelon_2.13.0.tar.gz PackageFileSize: 3.275 MiB