Package: wateRmelon Version: 2.13.0 Command: /Library/Frameworks/R.framework/Resources/bin/R CMD check --install=check:wateRmelon.install-out.txt --library=/Library/Frameworks/R.framework/Resources/library --no-vignettes --timings wateRmelon_2.13.0.tar.gz StartedAt: 2025-02-13 00:05:49 -0500 (Thu, 13 Feb 2025) EndedAt: 2025-02-13 00:12:50 -0500 (Thu, 13 Feb 2025) EllapsedTime: 420.4 seconds RetCode: 0 Status: WARNINGS CheckDir: wateRmelon.Rcheck Warnings: 5