Package: wateRmelon Version: 2.13.0 Command: /home/biocbuild/bbs-3.21-bioc/R/bin/R CMD check --install=check:wateRmelon.install-out.txt --library=/home/biocbuild/bbs-3.21-bioc/R/site-library --timings wateRmelon_2.13.0.tar.gz StartedAt: 2025-02-10 03:44:29 -0500 (Mon, 10 Feb 2025) EndedAt: 2025-02-10 03:52:03 -0500 (Mon, 10 Feb 2025) EllapsedTime: 454.2 seconds RetCode: 0 Status: WARNINGS CheckDir: wateRmelon.Rcheck Warnings: 5