Package: wateRmelon Version: 2.13.0 Command: /home/biocbuild/bbs-3.21-bioc/R/bin/R CMD INSTALL wateRmelon StartedAt: 2025-02-09 16:00:02 -0500 (Sun, 09 Feb 2025) EndedAt: 2025-02-09 16:00:56 -0500 (Sun, 09 Feb 2025) EllapsedTime: 54.2 seconds RetCode: 0 Status: OK