Package: wateRmelon Version: 2.13.0 Command: rm -rf wateRmelon.buildbin-libdir && mkdir wateRmelon.buildbin-libdir && E:\biocbuild\bbs-3.21-bioc\R\bin\R.exe CMD INSTALL --build --library=wateRmelon.buildbin-libdir wateRmelon_2.13.0.tar.gz StartedAt: 2025-02-10 08:57:17 -0500 (Mon, 10 Feb 2025) EndedAt: 2025-02-10 08:59:19 -0500 (Mon, 10 Feb 2025) EllapsedTime: 122.3 seconds RetCode: 0 Status: OK PackageFile: wateRmelon_2.13.0.zip PackageFileSize: 3.642 MiB