Package: wateRmelon Version: 2.13.0 Command: chmod a+r wateRmelon -R && E:\biocbuild\bbs-3.21-bioc\R\bin\R.exe CMD build --keep-empty-dirs --no-resave-data wateRmelon StartedAt: 2025-02-09 22:18:32 -0500 (Sun, 09 Feb 2025) EndedAt: 2025-02-09 22:20:51 -0500 (Sun, 09 Feb 2025) EllapsedTime: 139.0 seconds RetCode: 0 Status: OK PackageFile: wateRmelon_2.13.0.tar.gz PackageFileSize: 3.224 MiB