Package: wateRmelon Version: 2.13.0 Command: E:\biocbuild\bbs-3.21-bioc\R\bin\R.exe CMD check --no-multiarch --install=check:wateRmelon.install-out.txt --library=E:\biocbuild\bbs-3.21-bioc\R\library --no-vignettes --timings wateRmelon_2.13.0.tar.gz StartedAt: 2025-02-13 06:45:57 -0500 (Thu, 13 Feb 2025) EndedAt: 2025-02-13 06:54:08 -0500 (Thu, 13 Feb 2025) EllapsedTime: 491.2 seconds RetCode: 0 Status: WARNINGS CheckDir: wateRmelon.Rcheck Warnings: 5